BEGIN:VCALENDAR
PRODID:-//PUBBLE//agenda//NL
VERSION:2.0
METHOD:PUBLISH
BEGIN:VEVENT
DTSTART:20260501T090000Z
DTEND:20260628T150000Z
DTSTAMP:20260424T204409Z
UID:f048e637-5ffb-45bc-ab8c-6b82ef0f4337
CREATED:20260424T204409Z
NAME:Van stoermotorgeronk naar de stilte actiefonline.nl
X-WR-CALNAME:Van stoermotorgeronk naar de stilte
X-ALT-DESC;FMTTYPE=text/html:<a href='/agenda/2026/5/1/van-stoermotorgeronk-naar-de-stilte-69473'>/agenda/2026/5/1/van-stoermotorgeronk-naar-de-stilte-69473</a> || <p>exposanten: Dick Koppens - kunst op wielen Lieuwe Zwaagstra - schilderijen en beelden in hout Gonnie Boomgaard en Mirjam Beintema - keramiek Yvonne van Huizen - glas Els Jansen en Joke Ket - schilderijen Mattie Siegert - ecoprint Anneke Bloema - fotografie Catharina de Vries - sieraden Hanneke en Tineke Brugman - beelden in steen De expositie is van </p>
DESCRIPTION:<a href='/agenda/2026/5/1/van-stoermotorgeronk-naar-de-stilte-69473'>/agenda/2026/5/1/van-stoermotorgeronk-naar-de-stilte-69473</a> || <p>exposanten: Dick Koppens - kunst op wielen Lieuwe Zwaagstra - schilderijen en beelden in hout Gonnie Boomgaard en Mirjam Beintema - keramiek Yvonne van Huizen - glas Els Jansen en Joke Ket - schilderijen Mattie Siegert - ecoprint Anneke Bloema - fotografie Catharina de Vries - sieraden Hanneke en Tineke Brugman - beelden in steen De expositie is van </p>
LAST-MODIFIED:20260424T204409Z
LOCATION: Oude Postkantoor | Lageweg 17 Burgum
SEQUENCE:0
STATUS:CONFIRMED
SUMMARY:Van stoermotorgeronk naar de stilte
TRANSP:OPAQUE
END:VEVENT
END:VCALENDAR
