BEGIN:VCALENDAR
PRODID:-//PUBBLE//agenda//NL
VERSION:2.0
METHOD:PUBLISH
BEGIN:VEVENT
DTSTART:20260503T073000Z
DTEND:20260503T083000Z
DTSTAMP:20260424T215918Z
UID:59f9a393-c314-48a6-8147-a9fac301de36
CREATED:20260424T215918Z
NAME:Kwartettenkoor in Sumar actiefonline.nl
X-WR-CALNAME:Kwartettenkoor in Sumar
X-ALT-DESC;FMTTYPE=text/html:<a href='/agenda/2026/5/3/kwartettenkoor-in-sumar-69451'>/agenda/2026/5/3/kwartettenkoor-in-sumar-69451</a> || <p>Op zondag 3 mei verzorgt het Kwartettenkoor de kerkdienst in de Dorpskerk van Sumar. Dit koor laat ons horen hoe mooi de Friese taal is in de liturgische kerkmuziek. Er worden liederen gezongen uit het Liedboek en uit de bundel ‘Hertslach’ en er is samenzang. Het thema is ‘Reisgenoaten’. De dienst begint om 9.30 uur. Iedereen is van harte welkom.</p>
DESCRIPTION:<a href='/agenda/2026/5/3/kwartettenkoor-in-sumar-69451'>/agenda/2026/5/3/kwartettenkoor-in-sumar-69451</a> || <p>Op zondag 3 mei verzorgt het Kwartettenkoor de kerkdienst in de Dorpskerk van Sumar. Dit koor laat ons horen hoe mooi de Friese taal is in de liturgische kerkmuziek. Er worden liederen gezongen uit het Liedboek en uit de bundel ‘Hertslach’ en er is samenzang. Het thema is ‘Reisgenoaten’. De dienst begint om 9.30 uur. Iedereen is van harte welkom.</p>
LAST-MODIFIED:20260424T215918Z
LOCATION: Dorpskerk Sumar | Greate Buorren 14 Sumar
SEQUENCE:0
STATUS:CONFIRMED
SUMMARY:Kwartettenkoor in Sumar
TRANSP:OPAQUE
END:VEVENT
END:VCALENDAR
