BEGIN:VCALENDAR
PRODID:-//PUBBLE//agenda//NL
VERSION:2.0
METHOD:PUBLISH
BEGIN:VEVENT
DTSTART:20260426T120000Z
DTEND:20260426T140000Z
DTSTAMP:20260424T043631Z
UID:4a6fe72b-c41a-4931-a5a4-bc647ea6dee0
CREATED:20260424T043631Z
NAME:Feestpuzzelrit actiefonline.nl
X-WR-CALNAME:Feestpuzzelrit
X-ALT-DESC;FMTTYPE=text/html:<a href='/agenda/2026/4/26/feestpuzzelrit-69426'>/agenda/2026/4/26/feestpuzzelrit-69426</a> || <p>Comité Kollumer Kaasdagen organiseert i.s.m. MAC De Wâlden de feestpuzzelrit. Aan de puzzelrit kan iedereen meedoen met een auto of een motor. Het inschrijfgeld bedraagt 7 euro per voertuig, ongeacht het aantal inzittenden. Er wordt gereden volgens het puzzelreglement van MAC De Wâlden. Dit kunt u downloaden via <a href="http://www.macdewalden.nl" rel="noopener noreferrer" target="_blank">www.macdewalden.nl</a>. U kunt inschrijven tussen 13.30 uur tot 14.30 uur.</p>
DESCRIPTION:<a href='/agenda/2026/4/26/feestpuzzelrit-69426'>/agenda/2026/4/26/feestpuzzelrit-69426</a> || <p>Comité Kollumer Kaasdagen organiseert i.s.m. MAC De Wâlden de feestpuzzelrit. Aan de puzzelrit kan iedereen meedoen met een auto of een motor. Het inschrijfgeld bedraagt 7 euro per voertuig, ongeacht het aantal inzittenden. Er wordt gereden volgens het puzzelreglement van MAC De Wâlden. Dit kunt u downloaden via <a href="http://www.macdewalden.nl" rel="noopener noreferrer" target="_blank">www.macdewalden.nl</a>. U kunt inschrijven tussen 13.30 uur tot 14.30 uur.</p>
LAST-MODIFIED:20260424T043631Z
LOCATION: Paradisobar Kollum | Voorstraat 65  Kollum
SEQUENCE:0
STATUS:CONFIRMED
SUMMARY:Feestpuzzelrit
TRANSP:OPAQUE
END:VEVENT
END:VCALENDAR
