BEGIN:VCALENDAR
PRODID:-//PUBBLE//agenda//NL
VERSION:2.0
METHOD:PUBLISH
BEGIN:VEVENT
DTSTART:20260423T173000Z
DTEND:20260423T193000Z
DTSTAMP:20260420T034624Z
UID:2f025736-0e59-4556-95e7-959f75f1549f
CREATED:20260420T034624Z
NAME:Lezing Lida Dijkstra actiefonline.nl
X-WR-CALNAME:Lezing Lida Dijkstra
X-ALT-DESC;FMTTYPE=text/html:<a href='/agenda/2026/4/23/lezing-lida-dijkstra-69303'>/agenda/2026/4/23/lezing-lida-dijkstra-69303</a> || <p>Donderdag 23 april houdt Lida Dijkstra een lezing in dbieb in Gytsjerk. Op deze avond vertelt Lida over haar leven als auteur van Friese en Nederlandse kinderboeken.</p><p>Lida Dijkstra werd geboren in Heerenveen en groeide op in Scharsterbrug. Op haar achttiende verhuisde ze naar Leiden om een studie aan de Reinwardt Academie (hbo voor museummedewerkers) te volgen. Daarna studeerde ze kunstgeschiedenis en archeologie aan de Rijksuniversiteit Leiden. In 1986 keerde ze terug naar Friesland, waar ze eerst als projectmedewerkster bij de Stichting Monument van de Maand aan de slag ging en daarna als conservator in het Museum Joure.&nbsp;</p><p>In 1994 debuteerde Lida met het Friestalige kinderboek Sjoerd Stiensma syn reis troch de tiid. Naast prentenboeken en boeken voor beginnende lezers schrijft ze ook voor oudere jeugd. Bij die boeken laat ze zich graag inspireren door (kunst)geschiedenis, haar vroegere vakgebied.&nbsp;</p><p>Eerst schreef ze alleen in het Fries, maar vanaf 1997 ook in het Nederlands. Een aantal van haar kinderboeken zijn in beide talen verschenen (waaronder de boekjes over Sipke in de Gouden Boekjes-serie), waarbij ze zelf verantwoordelijk is voor de vertaling.</p><p>Van 2020 tot 2022 was ze Berneboeke-ambassadeur fan Fryslân. In die functie heeft ze ruim 450 groepen op 150 basisscholen bezocht.</p><p>Het werk van Lida is veelvuldig bekroond. In 2025 won ze een Zilveren én een Gouden Griffel voor het boek De wonderverteller. De griffeljury over het boek: ‘Beroemde verhalen een nieuw leven meegeven. Dat is de kracht van Lida Dijkstra. In De wonderverteller doet ze er nog een schepje bovenop door binnen het verhaal te laten zien hoe verhalen verteld kunnen worden. De jury is diep onder de indruk van de manier waarop de auteur een geschiedenis in een nieuwe vorm tot leven brengt. De wonderverteller is meeslepend in het avontuur én hartverwarmend in de karakters die worden beschreven. Naast veel vakmanschap gaat er een grote vrijheid, speelsheid en literaire kracht van dit boek uit.’&nbsp;</p><p>Naast het schrijven geeft Lida Dijkstra regelmatig cursussen en workshops, zit ze in literaire jury’s en is ze sinds 2015 actief als schoolschrijver.</p><p>De avond begint om 19.30 uur (inloop vanaf 19.15 uur) en duurt tot ca. 21.30 uur.&nbsp;</p><p>Toegang 5 euro, aanmelden via https://dbieb.op-shop.nl/9537/lida-dijkstra/23-04-2026.&nbsp;</p><p>Zie ook: https://lidadijkstra.nl/&nbsp;</p>
DESCRIPTION:<a href='/agenda/2026/4/23/lezing-lida-dijkstra-69303'>/agenda/2026/4/23/lezing-lida-dijkstra-69303</a> || <p>Donderdag 23 april houdt Lida Dijkstra een lezing in dbieb in Gytsjerk. Op deze avond vertelt Lida over haar leven als auteur van Friese en Nederlandse kinderboeken.</p><p>Lida Dijkstra werd geboren in Heerenveen en groeide op in Scharsterbrug. Op haar achttiende verhuisde ze naar Leiden om een studie aan de Reinwardt Academie (hbo voor museummedewerkers) te volgen. Daarna studeerde ze kunstgeschiedenis en archeologie aan de Rijksuniversiteit Leiden. In 1986 keerde ze terug naar Friesland, waar ze eerst als projectmedewerkster bij de Stichting Monument van de Maand aan de slag ging en daarna als conservator in het Museum Joure.&nbsp;</p><p>In 1994 debuteerde Lida met het Friestalige kinderboek Sjoerd Stiensma syn reis troch de tiid. Naast prentenboeken en boeken voor beginnende lezers schrijft ze ook voor oudere jeugd. Bij die boeken laat ze zich graag inspireren door (kunst)geschiedenis, haar vroegere vakgebied.&nbsp;</p><p>Eerst schreef ze alleen in het Fries, maar vanaf 1997 ook in het Nederlands. Een aantal van haar kinderboeken zijn in beide talen verschenen (waaronder de boekjes over Sipke in de Gouden Boekjes-serie), waarbij ze zelf verantwoordelijk is voor de vertaling.</p><p>Van 2020 tot 2022 was ze Berneboeke-ambassadeur fan Fryslân. In die functie heeft ze ruim 450 groepen op 150 basisscholen bezocht.</p><p>Het werk van Lida is veelvuldig bekroond. In 2025 won ze een Zilveren én een Gouden Griffel voor het boek De wonderverteller. De griffeljury over het boek: ‘Beroemde verhalen een nieuw leven meegeven. Dat is de kracht van Lida Dijkstra. In De wonderverteller doet ze er nog een schepje bovenop door binnen het verhaal te laten zien hoe verhalen verteld kunnen worden. De jury is diep onder de indruk van de manier waarop de auteur een geschiedenis in een nieuwe vorm tot leven brengt. De wonderverteller is meeslepend in het avontuur én hartverwarmend in de karakters die worden beschreven. Naast veel vakmanschap gaat er een grote vrijheid, speelsheid en literaire kracht van dit boek uit.’&nbsp;</p><p>Naast het schrijven geeft Lida Dijkstra regelmatig cursussen en workshops, zit ze in literaire jury’s en is ze sinds 2015 actief als schoolschrijver.</p><p>De avond begint om 19.30 uur (inloop vanaf 19.15 uur) en duurt tot ca. 21.30 uur.&nbsp;</p><p>Toegang 5 euro, aanmelden via https://dbieb.op-shop.nl/9537/lida-dijkstra/23-04-2026.&nbsp;</p><p>Zie ook: https://lidadijkstra.nl/&nbsp;</p>
LAST-MODIFIED:20260420T034624Z
LOCATION: dbieb Gytsjerk | Simke Kloostermanstrjitte 6 Gytsjerk
SEQUENCE:0
STATUS:CONFIRMED
SUMMARY:Lezing Lida Dijkstra
TRANSP:OPAQUE
END:VEVENT
END:VCALENDAR
