BEGIN:VCALENDAR
PRODID:-//PUBBLE//agenda//NL
VERSION:2.0
METHOD:PUBLISH
BEGIN:VEVENT
DTSTART:20260423T173000Z
DTEND:20260423T202500Z
DTSTAMP:20260420T035046Z
UID:0d763b9c-ae6e-4d62-aded-6f8efa60ebe3
CREATED:20260420T035046Z
NAME:Sound of Falling actiefonline.nl
X-WR-CALNAME:Sound of Falling
X-ALT-DESC;FMTTYPE=text/html:<a href='/agenda/2026/4/23/sound-of-falling-69268'>/agenda/2026/4/23/sound-of-falling-69268</a> || <p>Vier meisjes. Vier tijdperken. Eén boerderij waar het verleden nooit zwijgt. Sound of Falling is een beklemmend, droomachtig drama waarin generaties meisjes mysterieus met elkaar verbonden blijken en het verleden zich onverbiddelijk herhaalt. </p>
DESCRIPTION:<a href='/agenda/2026/4/23/sound-of-falling-69268'>/agenda/2026/4/23/sound-of-falling-69268</a> || <p>Vier meisjes. Vier tijdperken. Eén boerderij waar het verleden nooit zwijgt. Sound of Falling is een beklemmend, droomachtig drama waarin generaties meisjes mysterieus met elkaar verbonden blijken en het verleden zich onverbiddelijk herhaalt. </p>
LAST-MODIFIED:20260420T035046Z
LOCATION: Schouwburg De Lawei | Laweiplein 1  Drachten
SEQUENCE:0
STATUS:CONFIRMED
SUMMARY:Sound of Falling
TRANSP:OPAQUE
END:VEVENT
END:VCALENDAR
