BEGIN:VCALENDAR
PRODID:-//PUBBLE//agenda//NL
VERSION:2.0
METHOD:PUBLISH
BEGIN:VEVENT
DTSTART:20260423T180000Z
DTEND:20260423T200000Z
DTSTAMP:20260420T033323Z
UID:76bd564a-abe7-4939-aa01-9f68c3b51878
CREATED:20260420T033323Z
NAME:Ledenvergadering actiefonline.nl
X-WR-CALNAME:Ledenvergadering
X-ALT-DESC;FMTTYPE=text/html:<a href='/agenda/2026/4/23/ledenvergadering-69222'>/agenda/2026/4/23/ledenvergadering-69222</a> || <p>Ledenvergadering uitvaartvereniging Eendracht met gastspreker Evelien Meertens over de plannen Hospice De Walden</p>
DESCRIPTION:<a href='/agenda/2026/4/23/ledenvergadering-69222'>/agenda/2026/4/23/ledenvergadering-69222</a> || <p>Ledenvergadering uitvaartvereniging Eendracht met gastspreker Evelien Meertens over de plannen Hospice De Walden</p>
LAST-MODIFIED:20260420T033323Z
LOCATION: Aula Uitvaartvereniging Eendracht | Prinses Beatrixstraat 16 Burgum
SEQUENCE:0
STATUS:CONFIRMED
SUMMARY:Ledenvergadering
TRANSP:OPAQUE
END:VEVENT
END:VCALENDAR
