BEGIN:VCALENDAR
PRODID:-//PUBBLE//agenda//NL
VERSION:2.0
METHOD:PUBLISH
BEGIN:VEVENT
DTSTART:20260426T133000Z
DTEND:20260426T150000Z
DTSTAMP:20260424T042748Z
UID:64a90fcd-312b-4be1-8ab4-3281389201a5
CREATED:20260424T042748Z
NAME:Zingend naar Koningsdag” met het Westerlauwers mannenkoor actiefonline.nl
X-WR-CALNAME:Zingend naar Koningsdag” met het Westerlauwers mannenkoor
X-ALT-DESC;FMTTYPE=text/html:<a href='/agenda/2026/4/26/zingend-naar-koningsdag-met-het-westerlauwers-mannenkoor-69173'>/agenda/2026/4/26/zingend-naar-koningsdag-met-het-westerlauwers-mannenkoor-69173</a> || <p><strong><em>O</em></strong><strong><em>p zondagmiddag 26 april 2026 om 15.30 uur wordt een speciaal zanguurtje gehouden in de Kruiskerk, Voorstraat 15 te Buitenpost. Het Chr. Mannenkoor Westerlauwers komt hier zingen met uiteraard veel liederen in de sfeer van Koningsdag. Een extra muzikale bijdrage zal worden gegeven door de bekende organist Sebastiaan Schippers die naast een eigen inbreng ook het koor zal begeleiden op orgel. Dit grote mannenkoor koor o.l.v. dirigent Jan Hibma is een veel gevraagd koor. De thuisbasis van het koor is Buitenpost. Het koor verheugt zich daarom op deze zangmiddag samen met de inwoners van Buitenpost en wijde omgeving. Houd u van zingen of nieuwsgierig naar dit koor? &nbsp;Dan nodigen wij U van harte uit want het beloofd een inspirerend zanguurtje te worden voor zowel jong en oud. De toegang is gratis, wel wordt een collecte gehouden voor de onkosten.</em></strong></p>
DESCRIPTION:<a href='/agenda/2026/4/26/zingend-naar-koningsdag-met-het-westerlauwers-mannenkoor-69173'>/agenda/2026/4/26/zingend-naar-koningsdag-met-het-westerlauwers-mannenkoor-69173</a> || <p><strong><em>O</em></strong><strong><em>p zondagmiddag 26 april 2026 om 15.30 uur wordt een speciaal zanguurtje gehouden in de Kruiskerk, Voorstraat 15 te Buitenpost. Het Chr. Mannenkoor Westerlauwers komt hier zingen met uiteraard veel liederen in de sfeer van Koningsdag. Een extra muzikale bijdrage zal worden gegeven door de bekende organist Sebastiaan Schippers die naast een eigen inbreng ook het koor zal begeleiden op orgel. Dit grote mannenkoor koor o.l.v. dirigent Jan Hibma is een veel gevraagd koor. De thuisbasis van het koor is Buitenpost. Het koor verheugt zich daarom op deze zangmiddag samen met de inwoners van Buitenpost en wijde omgeving. Houd u van zingen of nieuwsgierig naar dit koor? &nbsp;Dan nodigen wij U van harte uit want het beloofd een inspirerend zanguurtje te worden voor zowel jong en oud. De toegang is gratis, wel wordt een collecte gehouden voor de onkosten.</em></strong></p>
LAST-MODIFIED:20260424T042748Z
LOCATION: Kruiskerk | Voorstraat 15 Buitenpost
SEQUENCE:0
STATUS:CONFIRMED
SUMMARY:Zingend naar Koningsdag” met het Westerlauwers mannenkoor
TRANSP:OPAQUE
END:VEVENT
END:VCALENDAR
