BEGIN:VCALENDAR
PRODID:-//PUBBLE//agenda//NL
VERSION:2.0
METHOD:PUBLISH
BEGIN:VEVENT
DTSTART:20260309T173000Z
DTEND:20260409T200000Z
DTSTAMP:20260421T160139Z
UID:361a5c6a-6c52-4974-8ff3-2767ab708c2d
CREATED:20260421T160139Z
NAME:Verkiezingsbijeenkomst André Flach actiefonline.nl
X-WR-CALNAME:Verkiezingsbijeenkomst André Flach
X-ALT-DESC;FMTTYPE=text/html:<a href='/agenda/2026/3/9/verkiezingsbijeenkomst-andre-flach-68840'>/agenda/2026/3/9/verkiezingsbijeenkomst-andre-flach-68840</a> || <p>SGP Smallingerland organiseert een verkiezingsbijeenkomst met André Flach. Ook stellen de kandidaten Berend de Boer en Marien Boer zich voor en is er een interactief deel met het publiek.</p><p>Van harte welkom!</p>
DESCRIPTION:<a href='/agenda/2026/3/9/verkiezingsbijeenkomst-andre-flach-68840'>/agenda/2026/3/9/verkiezingsbijeenkomst-andre-flach-68840</a> || <p>SGP Smallingerland organiseert een verkiezingsbijeenkomst met André Flach. Ook stellen de kandidaten Berend de Boer en Marien Boer zich voor en is er een interactief deel met het publiek.</p><p>Van harte welkom!</p>
LAST-MODIFIED:20260421T160139Z
LOCATION: Bethel | De Bolder 75 Drachten
SEQUENCE:0
STATUS:CONFIRMED
SUMMARY:Verkiezingsbijeenkomst André Flach
TRANSP:OPAQUE
END:VEVENT
END:VCALENDAR
