BEGIN:VCALENDAR
PRODID:-//PUBBLE//agenda//NL
VERSION:2.0
METHOD:PUBLISH
BEGIN:VEVENT
DTSTART:20251129T180000Z
DTEND:29251128T220000Z
DTSTAMP:20260424T215847Z
UID:8992be43-2f25-45b9-a495-cde82ac5b659
CREATED:20260424T215847Z
NAME:Jubileumconcert Fanfare Oerterp actiefonline.nl
X-WR-CALNAME:Jubileumconcert Fanfare Oerterp
X-ALT-DESC;FMTTYPE=text/html:<a href='/agenda/2025/11/29/jubileumconcert-fanfare-oerterp-67606'>/agenda/2025/11/29/jubileumconcert-fanfare-oerterp-67606</a> || <p>Jubileumconcert Fanfare Oerterp met reünieorkest.</p><p>Fanfare Oerterp viert dit jaar een bijzondere mijlpaal: het orkest bestaat 65 jaar! Ter gelegenheid van dit jubileum wordt op zaterdag 29 november 2025 een jubileumconcert georganiseerd in MFC De Wier te Ureterp.</p><p>Wat dit concert extra bijzonder maakt, is de samenstelling van het orkest: naast de huidige leden staan ook oud-leden weer op het podium. Vanaf september is er wekelijks geoefend in een speciaal samengesteld reünieorkest, waarin muzikanten van vroeger en nu samen de mooiste stukken instuderen.</p><p>Het jubileumconcert belooft een sfeervolle avond te worden vol muziek, herinneringen en ontmoetingen. Met een gevarieerd programma brengt Fanfare Oerterp een ode aan 65 jaar muzikale geschiedenis in het dorp.</p><p>De band Greymen uit Groningen is ook van de partij. Met hun meeslepende sound zorgen zij voor een extra feestelijke sfeer en sluiten de avond in stijl af. Ook worden er een aantal nummers gezamenlijk gespeeld.&nbsp;</p><p>De avond begint om 20.00 uur (zaal is open vanaf 19.30 uur). Iedereen is van harte uitgenodigd om deze feestelijke avond bij te wonen. De toegang is gratis.</p><p>Kom luisteren naar het reünieorkest en de band Greymen, vier het jubileum mee en geniet van een avond vol muziek.</p>
DESCRIPTION:<a href='/agenda/2025/11/29/jubileumconcert-fanfare-oerterp-67606'>/agenda/2025/11/29/jubileumconcert-fanfare-oerterp-67606</a> || <p>Jubileumconcert Fanfare Oerterp met reünieorkest.</p><p>Fanfare Oerterp viert dit jaar een bijzondere mijlpaal: het orkest bestaat 65 jaar! Ter gelegenheid van dit jubileum wordt op zaterdag 29 november 2025 een jubileumconcert georganiseerd in MFC De Wier te Ureterp.</p><p>Wat dit concert extra bijzonder maakt, is de samenstelling van het orkest: naast de huidige leden staan ook oud-leden weer op het podium. Vanaf september is er wekelijks geoefend in een speciaal samengesteld reünieorkest, waarin muzikanten van vroeger en nu samen de mooiste stukken instuderen.</p><p>Het jubileumconcert belooft een sfeervolle avond te worden vol muziek, herinneringen en ontmoetingen. Met een gevarieerd programma brengt Fanfare Oerterp een ode aan 65 jaar muzikale geschiedenis in het dorp.</p><p>De band Greymen uit Groningen is ook van de partij. Met hun meeslepende sound zorgen zij voor een extra feestelijke sfeer en sluiten de avond in stijl af. Ook worden er een aantal nummers gezamenlijk gespeeld.&nbsp;</p><p>De avond begint om 20.00 uur (zaal is open vanaf 19.30 uur). Iedereen is van harte uitgenodigd om deze feestelijke avond bij te wonen. De toegang is gratis.</p><p>Kom luisteren naar het reünieorkest en de band Greymen, vier het jubileum mee en geniet van een avond vol muziek.</p>
LAST-MODIFIED:20260424T215847Z
LOCATION: MFC De Wier | De Telle 21 Ureterp
SEQUENCE:0
STATUS:CONFIRMED
SUMMARY:Jubileumconcert Fanfare Oerterp
TRANSP:OPAQUE
END:VEVENT
END:VCALENDAR
