BEGIN:VCALENDAR
PRODID:-//PUBBLE//agenda//NL
VERSION:2.0
METHOD:PUBLISH
BEGIN:VEVENT
DTSTART:20251108T110000Z
DTEND:20251108T150000Z
DTSTAMP:20260420T155208Z
UID:e32a82ae-f141-475d-bc97-1646cc1d7077
CREATED:20260420T155208Z
NAME:kunstverkooptentoonstelling ART Super actiefonline.nl
X-WR-CALNAME:kunstverkooptentoonstelling ART Super
X-ALT-DESC;FMTTYPE=text/html:<a href='/agenda/2025/11/8/kunstverkooptentoonstelling-art-super-67239'>/agenda/2025/11/8/kunstverkooptentoonstelling-art-super-67239</a> || <p>Voor de vijftiende keer wordt dit evenement georganiseerd. 42 kunstenaars exposeren hun schilderijen, keramiek, foto’s, textielkunst. Klein werk voor een betaalbare prijs. Net als in de supermarkt kunt u uw aankoop meteen meenemen. Het verkochte object wordt vervangen door nieuw werk. Zo blijft het gedurende het verloop van de zes weken steeds verrassend wat u zult aantreffen. Openingstijden van 1 november tot en met 6 december, elke vrijdag, zaterdag en zondag van 13 tot 17 uur. Entree gratis. Binnenwei 22, 8409 JH Hemrik</p><p>Meer informatie <a href="http://www.wittekerkhemrik.nl" rel="noopener noreferrer" target="_blank">www.wittekerkhemrik.nl</a></p>
DESCRIPTION:<a href='/agenda/2025/11/8/kunstverkooptentoonstelling-art-super-67239'>/agenda/2025/11/8/kunstverkooptentoonstelling-art-super-67239</a> || <p>Voor de vijftiende keer wordt dit evenement georganiseerd. 42 kunstenaars exposeren hun schilderijen, keramiek, foto’s, textielkunst. Klein werk voor een betaalbare prijs. Net als in de supermarkt kunt u uw aankoop meteen meenemen. Het verkochte object wordt vervangen door nieuw werk. Zo blijft het gedurende het verloop van de zes weken steeds verrassend wat u zult aantreffen. Openingstijden van 1 november tot en met 6 december, elke vrijdag, zaterdag en zondag van 13 tot 17 uur. Entree gratis. Binnenwei 22, 8409 JH Hemrik</p><p>Meer informatie <a href="http://www.wittekerkhemrik.nl" rel="noopener noreferrer" target="_blank">www.wittekerkhemrik.nl</a></p>
LAST-MODIFIED:20260420T155208Z
LOCATION: Witte Kerk Hemrik | Binnenwei 22  Hemrik
SEQUENCE:0
STATUS:CONFIRMED
SUMMARY:kunstverkooptentoonstelling ART Super
TRANSP:OPAQUE
END:VEVENT
END:VCALENDAR
