BEGIN:VCALENDAR
PRODID:-//PUBBLE//agenda//NL
VERSION:2.0
METHOD:PUBLISH
BEGIN:VEVENT
DTSTART:20251004T130000Z
DTEND:20251004T200000Z
DTSTAMP:20260420T211806Z
UID:2dde5d1e-546d-4279-b228-66d16e48c62a
CREATED:20260420T211806Z
NAME:Wereld Bierendag 4 oktober 2025 actiefonline.nl
X-WR-CALNAME:Wereld Bierendag 4 oktober 2025
X-ALT-DESC;FMTTYPE=text/html:<a href='/agenda/2025/10/4/wereld-bierendag-4-oktober-2025-66800'>/agenda/2025/10/4/wereld-bierendag-4-oktober-2025-66800</a> || <p>Terwijl Tuff Luck en de Marcel Scherpenzeeband op zaterdag 4 oktober het dak van De Buorskip, Dorpshuis en Zalenverhuur in Beetsterzwaag eraf spelen, kunnen bezoekers van Wereld Bierendag genieten van ruim aanbod in verschillende biersoorten van 3 regionale bierbrouwers, Nordyk, De Wiere Waldman en JP Brouwt.</p><p>Zaal is open vanaf 20.00 uur en toegang is gratis.</p>
DESCRIPTION:<a href='/agenda/2025/10/4/wereld-bierendag-4-oktober-2025-66800'>/agenda/2025/10/4/wereld-bierendag-4-oktober-2025-66800</a> || <p>Terwijl Tuff Luck en de Marcel Scherpenzeeband op zaterdag 4 oktober het dak van De Buorskip, Dorpshuis en Zalenverhuur in Beetsterzwaag eraf spelen, kunnen bezoekers van Wereld Bierendag genieten van ruim aanbod in verschillende biersoorten van 3 regionale bierbrouwers, Nordyk, De Wiere Waldman en JP Brouwt.</p><p>Zaal is open vanaf 20.00 uur en toegang is gratis.</p>
LAST-MODIFIED:20260420T211806Z
LOCATION: It Buorskip | Vlaslaan 26  Beetsterzwaag
SEQUENCE:0
STATUS:CONFIRMED
SUMMARY:Wereld Bierendag 4 oktober 2025
TRANSP:OPAQUE
END:VEVENT
END:VCALENDAR
