BEGIN:VCALENDAR
PRODID:-//PUBBLE//agenda//NL
VERSION:2.0
METHOD:PUBLISH
BEGIN:VEVENT
DTSTART:20250712T080000Z
DTEND:20250712T150000Z
DTSTAMP:20260424T034503Z
UID:38d76851-1fd7-40d5-bfa3-e8d00e4946c5
CREATED:20260424T034503Z
NAME:Fietstocht actiefonline.nl
X-WR-CALNAME:Fietstocht
X-ALT-DESC;FMTTYPE=text/html:<a href='/agenda/2025/7/12/fietstocht-65728'>/agenda/2025/7/12/fietstocht-65728</a> || <p>Ver. Tuindorp Harkema organiseert weer een fietstocht. De prachtige route start in Harkema bij bezoektuin de Teeroas aan de Mellereed 2 in Harkema. U kunt starten tussen 10.00 uur en 13.30 uur. U fietst door het afwisselende landschap in de omgeving van het bosgebied van het Westerkwartier. Er zijn twee routes: één van 60 kilometer en één van 35 kilometer. Onderweg kunt u even afstappen bij een inspirerende privetuin in Niebert.</p><p>Kosten zijn 3,50 euro inclusief 1 kop koffie of thee en een versnapering voor onderweg.</p>
DESCRIPTION:<a href='/agenda/2025/7/12/fietstocht-65728'>/agenda/2025/7/12/fietstocht-65728</a> || <p>Ver. Tuindorp Harkema organiseert weer een fietstocht. De prachtige route start in Harkema bij bezoektuin de Teeroas aan de Mellereed 2 in Harkema. U kunt starten tussen 10.00 uur en 13.30 uur. U fietst door het afwisselende landschap in de omgeving van het bosgebied van het Westerkwartier. Er zijn twee routes: één van 60 kilometer en één van 35 kilometer. Onderweg kunt u even afstappen bij een inspirerende privetuin in Niebert.</p><p>Kosten zijn 3,50 euro inclusief 1 kop koffie of thee en een versnapering voor onderweg.</p>
LAST-MODIFIED:20260424T034503Z
LOCATION: Bezoektuin de Teeroas | Mellereed 2 Harkema
SEQUENCE:0
STATUS:CONFIRMED
SUMMARY:Fietstocht
TRANSP:OPAQUE
END:VEVENT
END:VCALENDAR
