BEGIN:VCALENDAR
PRODID:-//PUBBLE//agenda//NL
VERSION:2.0
METHOD:PUBLISH
BEGIN:VEVENT
DTSTART:20241207T110000Z
DTEND:20241207T170000Z
DTSTAMP:20260420T091837Z
UID:3ad0ecaa-8173-477c-8e71-af453a2b6148
CREATED:20260420T091837Z
NAME:Charles Dickens Kerstmarkt Buitenpost actiefonline.nl
X-WR-CALNAME:Charles Dickens Kerstmarkt Buitenpost
X-ALT-DESC;FMTTYPE=text/html:<a href='/agenda/2024/12/7/charles-dickens-kerstmarkt-buitenpost-62771'>/agenda/2024/12/7/charles-dickens-kerstmarkt-buitenpost-62771</a> || <p>Op zaterdag 7 december 2024 is de gezelligste Charles Dickens-kerstmarkt van het noorden er weer in Buitenpost! Dit jaar wordt de markt, i.v.m. werkzaamheden in de Kerkstraat, gehouden in en rondom de Schakel aan de Voorstraat 15 in Buitenpost. Met veel marktkramen, nostalgisch straattheater, live-muziek, een ijsbaan voor kinderen, een rodeorendier en andere activiteiten voor jong en oud kom je helemaal in de kerstsfeer. Ben jij er ook weer bij? </p>
DESCRIPTION:<a href='/agenda/2024/12/7/charles-dickens-kerstmarkt-buitenpost-62771'>/agenda/2024/12/7/charles-dickens-kerstmarkt-buitenpost-62771</a> || <p>Op zaterdag 7 december 2024 is de gezelligste Charles Dickens-kerstmarkt van het noorden er weer in Buitenpost! Dit jaar wordt de markt, i.v.m. werkzaamheden in de Kerkstraat, gehouden in en rondom de Schakel aan de Voorstraat 15 in Buitenpost. Met veel marktkramen, nostalgisch straattheater, live-muziek, een ijsbaan voor kinderen, een rodeorendier en andere activiteiten voor jong en oud kom je helemaal in de kerstsfeer. Ben jij er ook weer bij? </p>
LAST-MODIFIED:20260420T091837Z
LOCATION: De Schakel | Voorstraat 15  Buitenpost
SEQUENCE:0
STATUS:CONFIRMED
SUMMARY:Charles Dickens Kerstmarkt Buitenpost
TRANSP:OPAQUE
END:VEVENT
END:VCALENDAR
