BEGIN:VCALENDAR
PRODID:-//PUBBLE//agenda//NL
VERSION:2.0
METHOD:PUBLISH
BEGIN:VEVENT
DTSTART:20201208T084845Z
DTEND:20201208T094845Z
DTSTAMP:20260426T010811Z
UID:bc160e2d-fd22-4e70-96d0-96882ccc09b7
CREATED:20260426T010811Z
NAME:It’s A Wonderful Life actiefonline.nl
X-WR-CALNAME:It’s A Wonderful Life
X-ALT-DESC;FMTTYPE=text/html:<a href='/agenda/2020/12/30/it-s-a-wonderful-life-45618'>/agenda/2020/12/30/it-s-a-wonderful-life-45618</a> || <p>WIG speelt een echte kerstklassieker in een bijzonder nieuw jasje. Een vrolijke afsluiter van 2020. Tickets: ww.wigproducties.nl</p>
DESCRIPTION:<a href='/agenda/2020/12/30/it-s-a-wonderful-life-45618'>/agenda/2020/12/30/it-s-a-wonderful-life-45618</a> || <p>WIG speelt een echte kerstklassieker in een bijzonder nieuw jasje. Een vrolijke afsluiter van 2020. Tickets: ww.wigproducties.nl</p>
LAST-MODIFIED:20260426T010811Z
LOCATION: De Bidler | Gele Eker 5 Wergea
SEQUENCE:0
STATUS:CONFIRMED
SUMMARY:It’s A Wonderful Life
TRANSP:OPAQUE
END:VEVENT
END:VCALENDAR
