BEGIN:VCALENDAR
PRODID:-//PUBBLE//agenda//NL
VERSION:2.0
METHOD:PUBLISH
BEGIN:VEVENT
DTSTART:20201208T084821Z
DTEND:20201208T094821Z
DTSTAMP:20260426T022023Z
UID:33987765-357f-42c8-8127-7d0d2fef06f7
CREATED:20260426T022023Z
NAME:It’s A Wonderful Life actiefonline.nl
X-WR-CALNAME:It’s A Wonderful Life
X-ALT-DESC;FMTTYPE=text/html:<a href='/agenda/2020/12/29/it-s-a-wonderful-life-45617'>/agenda/2020/12/29/it-s-a-wonderful-life-45617</a> || <p>WIG speelt een echte kerstklassieker in een bijzonder nieuw jasje. Een vrolijke afsluiter van 2020. Tickets: ww.wigproducties.nl</p>
DESCRIPTION:<a href='/agenda/2020/12/29/it-s-a-wonderful-life-45617'>/agenda/2020/12/29/it-s-a-wonderful-life-45617</a> || <p>WIG speelt een echte kerstklassieker in een bijzonder nieuw jasje. Een vrolijke afsluiter van 2020. Tickets: ww.wigproducties.nl</p>
LAST-MODIFIED:20260426T022023Z
LOCATION: De Bidler | Gele Eker 5 Wergea
SEQUENCE:0
STATUS:CONFIRMED
SUMMARY:It’s A Wonderful Life
TRANSP:OPAQUE
END:VEVENT
END:VCALENDAR
