BEGIN:VCALENDAR
PRODID:-//PUBBLE//agenda//NL
VERSION:2.0
METHOD:PUBLISH
BEGIN:VEVENT
DTSTART:20200225T110000Z
DTEND:20200225T120000Z
DTSTAMP:20260424T210134Z
UID:0fbde3de-2037-482f-afb1-4ebf99b4a353
CREATED:20260424T210134Z
NAME:Inloop middag WOL it in Kollum actiefonline.nl
X-WR-CALNAME:Inloop middag WOL it in Kollum
X-ALT-DESC;FMTTYPE=text/html:<a href='/agenda/2020/2/25/inloop-middag-39665'>/agenda/2020/2/25/inloop-middag-39665</a> || <p>- Tijdens de inloopmiddag kun je terecht met vragen over viltwerk, mogelijkheden voor workshops/cursussen of even rond te kijken in het atelier, Rijdstraat 6,&nbsp;van 13.00 uur tot 15.00 uur.</p>

DESCRIPTION:<a href='/agenda/2020/2/25/inloop-middag-39665'>/agenda/2020/2/25/inloop-middag-39665</a> || <p>- Tijdens de inloopmiddag kun je terecht met vragen over viltwerk, mogelijkheden voor workshops/cursussen of even rond te kijken in het atelier, Rijdstraat 6,&nbsp;van 13.00 uur tot 15.00 uur.</p>

LAST-MODIFIED:20260424T210134Z
LOCATION: WOL it | Rijdstraat 6 Kollum
SEQUENCE:0
STATUS:CONFIRMED
SUMMARY:Inloop middag WOL it in Kollum
TRANSP:OPAQUE
END:VEVENT
END:VCALENDAR
