BEGIN:VCALENDAR
PRODID:-//PUBBLE//agenda//NL
VERSION:2.0
METHOD:PUBLISH
BEGIN:VEVENT
DTSTART:20200131T103126Z
DTEND:20200131T113126Z
DTSTAMP:20260425T163243Z
UID:f4de4a82-e279-4428-b039-06ecbf4d2409
CREATED:20260425T163243Z
NAME:Help Pake & Beppe de vakantie door actiefonline.nl
X-WR-CALNAME:Help Pake & Beppe de vakantie door
X-ALT-DESC;FMTTYPE=text/html:<a href='/agenda/2020/2/23/help-pake-beppe-de-vakantie-door-39332'>/agenda/2020/2/23/help-pake-beppe-de-vakantie-door-39332</a> || <p>- kinderen gratis entree op vertoon van een (betalende) volwassene, een leuk kinderprogramma over water met proefjes, puzzels en veel meer! Observeum&nbsp;museum &amp; sterrenwacht Burgum, 13.00 - 17.00 u</p>

DESCRIPTION:<a href='/agenda/2020/2/23/help-pake-beppe-de-vakantie-door-39332'>/agenda/2020/2/23/help-pake-beppe-de-vakantie-door-39332</a> || <p>- kinderen gratis entree op vertoon van een (betalende) volwassene, een leuk kinderprogramma over water met proefjes, puzzels en veel meer! Observeum&nbsp;museum &amp; sterrenwacht Burgum, 13.00 - 17.00 u</p>

LAST-MODIFIED:20260425T163243Z
LOCATION: Observeum Museum en Sterrenwacht Burgum | Menno van Coehoornweg 9  Burgum
SEQUENCE:0
STATUS:CONFIRMED
SUMMARY:Help Pake & Beppe de vakantie door
TRANSP:OPAQUE
END:VEVENT
END:VCALENDAR
