BEGIN:VCALENDAR
PRODID:-//PUBBLE//agenda//NL
VERSION:2.0
METHOD:PUBLISH
BEGIN:VEVENT
DTSTART:20200407T080000Z
DTEND:20200407T093000Z
DTSTAMP:20260424T070042Z
UID:ede30c68-b04b-460e-bd27-015f28022aff
CREATED:20260424T070042Z
NAME:Inloopspreekuur Zorg en Welzijn Trynwâlden actiefonline.nl
X-WR-CALNAME:Inloopspreekuur Zorg en Welzijn Trynwâlden
X-ALT-DESC;FMTTYPE=text/html:<a href='/agenda/2020/4/7/inloopspreekuur-zorg-en-welzijn-trynwalden-35529'>/agenda/2020/4/7/inloopspreekuur-zorg-en-welzijn-trynwalden-35529</a> || <p>-&nbsp;Krijg antwoorden op uw zorg gerelateerde vragen,&nbsp;Heemstra State,&nbsp;Frisiastate 23, iedere eerste dinsdag van de maand vanaf&nbsp;10.00 tot 11.30 u.</p>

DESCRIPTION:<a href='/agenda/2020/4/7/inloopspreekuur-zorg-en-welzijn-trynwalden-35529'>/agenda/2020/4/7/inloopspreekuur-zorg-en-welzijn-trynwalden-35529</a> || <p>-&nbsp;Krijg antwoorden op uw zorg gerelateerde vragen,&nbsp;Heemstra State,&nbsp;Frisiastate 23, iedere eerste dinsdag van de maand vanaf&nbsp;10.00 tot 11.30 u.</p>

LAST-MODIFIED:20260424T070042Z
LOCATION: Heemstra State | Frisiastate 23  Oentsjerk
SEQUENCE:0
STATUS:CONFIRMED
SUMMARY:Inloopspreekuur Zorg en Welzijn Trynwâlden
TRANSP:OPAQUE
END:VEVENT
END:VCALENDAR
