BEGIN:VCALENDAR
PRODID:-//PUBBLE//agenda//NL
VERSION:2.0
METHOD:PUBLISH
BEGIN:VEVENT
DTSTART:20200204T080000Z
DTEND:20200204T093000Z
DTSTAMP:20260425T033054Z
UID:45de483d-f498-4e5f-9edd-c6e3e78091f4
CREATED:20260425T033054Z
NAME:Inloopspreekuur Zorg en Welzijn Trynwâlden actiefonline.nl
X-WR-CALNAME:Inloopspreekuur Zorg en Welzijn Trynwâlden
X-ALT-DESC;FMTTYPE=text/html:<a href='/agenda/2020/2/4/inloopspreekuur-zorg-en-welzijn-trynwalden-35527'>/agenda/2020/2/4/inloopspreekuur-zorg-en-welzijn-trynwalden-35527</a> || <p>-&nbsp;Krijg antwoorden op uw zorg gerelateerde vragen,&nbsp;Heemstra State,&nbsp;Frisiastate 23, iedere eerste dinsdag van de maand vanaf&nbsp;10.00 tot 11.30 u.</p>

DESCRIPTION:<a href='/agenda/2020/2/4/inloopspreekuur-zorg-en-welzijn-trynwalden-35527'>/agenda/2020/2/4/inloopspreekuur-zorg-en-welzijn-trynwalden-35527</a> || <p>-&nbsp;Krijg antwoorden op uw zorg gerelateerde vragen,&nbsp;Heemstra State,&nbsp;Frisiastate 23, iedere eerste dinsdag van de maand vanaf&nbsp;10.00 tot 11.30 u.</p>

LAST-MODIFIED:20260425T033054Z
LOCATION: Heemstra State | Frisiastate 23  Oentsjerk
SEQUENCE:0
STATUS:CONFIRMED
SUMMARY:Inloopspreekuur Zorg en Welzijn Trynwâlden
TRANSP:OPAQUE
END:VEVENT
END:VCALENDAR
