BEGIN:VCALENDAR
PRODID:-//PUBBLE//agenda//NL
VERSION:2.0
METHOD:PUBLISH
BEGIN:VEVENT
DTSTART:20190520T082639Z
DTEND:20190520T092639Z
DTSTAMP:20260425T225907Z
UID:feffb2d4-b2e7-4a23-a230-3c17292a15ca
CREATED:20260425T225907Z
NAME:Voorjaarsmarkt Zorgbedrijf De Leidraad actiefonline.nl
X-WR-CALNAME:Voorjaarsmarkt Zorgbedrijf De Leidraad
X-ALT-DESC;FMTTYPE=text/html:<a href='/agenda/2019/5/24/voorjaarsmarkt-zorgbedrijf-de-leidraad-34746'>/agenda/2019/5/24/voorjaarsmarkt-zorgbedrijf-de-leidraad-34746</a> || <p>, tijdens de markt bieden deelnemers zelfgemaakte producten aan en zijn de verschillende werkplaatsen open voor bezoek,&nbsp;Achterwei 6, vanaf 10.00 tot 18.00 u.</p>

DESCRIPTION:<a href='/agenda/2019/5/24/voorjaarsmarkt-zorgbedrijf-de-leidraad-34746'>/agenda/2019/5/24/voorjaarsmarkt-zorgbedrijf-de-leidraad-34746</a> || <p>, tijdens de markt bieden deelnemers zelfgemaakte producten aan en zijn de verschillende werkplaatsen open voor bezoek,&nbsp;Achterwei 6, vanaf 10.00 tot 18.00 u.</p>

LAST-MODIFIED:20260425T225907Z
LOCATION: De Falom algemeen | Achterwei 2 De Falom
SEQUENCE:0
STATUS:CONFIRMED
SUMMARY:Voorjaarsmarkt Zorgbedrijf De Leidraad
TRANSP:OPAQUE
END:VEVENT
END:VCALENDAR
