BEGIN:VCALENDAR
PRODID:-//PUBBLE//agenda//NL
VERSION:2.0
METHOD:PUBLISH
BEGIN:VEVENT
DTSTART:20190513T091442Z
DTEND:20190513T101442Z
DTSTAMP:20260421T175204Z
UID:0c028850-8519-417f-bd85-dd4d304c7aed
CREATED:20260421T175204Z
NAME:Opening expositie: De Nieuwe Wereld in Kinderkunst actiefonline.nl
X-WR-CALNAME:Opening expositie: De Nieuwe Wereld in Kinderkunst
X-ALT-DESC;FMTTYPE=text/html:<a href='/agenda/2019/5/17/opening-expositie-de-nieuwe-wereld-in-kinderkunst-34628'>/agenda/2019/5/17/opening-expositie-de-nieuwe-wereld-in-kinderkunst-34628</a> || <p>, tekeningen van schoolkinderen van CBS de Hoeksteen tonen hun beeld van de nieuwe wereld,&nbsp;Wethouder Jouke Douwe de Vries zal de opening verrichten, Grote Kerk, aanvang 14.30 u.</p>

DESCRIPTION:<a href='/agenda/2019/5/17/opening-expositie-de-nieuwe-wereld-in-kinderkunst-34628'>/agenda/2019/5/17/opening-expositie-de-nieuwe-wereld-in-kinderkunst-34628</a> || <p>, tekeningen van schoolkinderen van CBS de Hoeksteen tonen hun beeld van de nieuwe wereld,&nbsp;Wethouder Jouke Douwe de Vries zal de opening verrichten, Grote Kerk, aanvang 14.30 u.</p>

LAST-MODIFIED:20260421T175204Z
LOCATION: Dokkum algemeen | Hoedemakersweg 4 Dokkum
SEQUENCE:0
STATUS:CONFIRMED
SUMMARY:Opening expositie: De Nieuwe Wereld in Kinderkunst
TRANSP:OPAQUE
END:VEVENT
END:VCALENDAR
