BEGIN:VCALENDAR
PRODID:-//PUBBLE//agenda//NL
VERSION:2.0
METHOD:PUBLISH
BEGIN:VEVENT
DTSTART:20190211T153557Z
DTEND:20190211T163557Z
DTSTAMP:20260424T235915Z
UID:1fd55e0d-028f-493a-9bf9-500ab3d067e2
CREATED:20260424T235915Z
NAME:Reptielendag op kinderboerderij de Naturij actiefonline.nl
X-WR-CALNAME:Reptielendag op kinderboerderij de Naturij
X-ALT-DESC;FMTTYPE=text/html:<a href='/agenda/2019/2/18/reptielendag-op-kinderboerderij-de-naturij-33119'>/agenda/2019/2/18/reptielendag-op-kinderboerderij-de-naturij-33119</a> || <p>,&nbsp;wurgslangen, duizenpoten en nog veel meer reptielen, 11.00 - 16.00 u., kosten: entree van de Naturij.</p>

DESCRIPTION:<a href='/agenda/2019/2/18/reptielendag-op-kinderboerderij-de-naturij-33119'>/agenda/2019/2/18/reptielendag-op-kinderboerderij-de-naturij-33119</a> || <p>,&nbsp;wurgslangen, duizenpoten en nog veel meer reptielen, 11.00 - 16.00 u., kosten: entree van de Naturij.</p>

LAST-MODIFIED:20260424T235915Z
LOCATION: Drachten algemeen | De Hemmen 1 Drachten
SEQUENCE:0
STATUS:CONFIRMED
SUMMARY:Reptielendag op kinderboerderij de Naturij
TRANSP:OPAQUE
END:VEVENT
END:VCALENDAR
