BEGIN:VCALENDAR
PRODID:-//PUBBLE//agenda//NL
VERSION:2.0
METHOD:PUBLISH
BEGIN:VEVENT
DTSTART:20181203T151013Z
DTEND:20181203T161013Z
DTSTAMP:20260426T041716Z
UID:c6100ae0-25a7-4eb9-b545-498e38c67964
CREATED:20260426T041716Z
NAME:Huiskamerfestival: Muziek bij de buren  actiefonline.nl
X-WR-CALNAME:Huiskamerfestival: Muziek bij de buren 
X-ALT-DESC;FMTTYPE=text/html:<a href='/agenda/2018/12/9/huiskamerfestival-muziek-bij-de-buren--31742'>/agenda/2018/12/9/huiskamerfestival-muziek-bij-de-buren--31742</a> || <p>, met Tippora Tieman, popkoor Timeless en&nbsp;Rock&#39;n lol band de Sadelr&ucirc;kers, volledige programma op&nbsp;drachten.muziekbijdeburen.nl, opening bij het oude huis aan de Oudeweg 208a, 12.30 u.</p>

DESCRIPTION:<a href='/agenda/2018/12/9/huiskamerfestival-muziek-bij-de-buren--31742'>/agenda/2018/12/9/huiskamerfestival-muziek-bij-de-buren--31742</a> || <p>, met Tippora Tieman, popkoor Timeless en&nbsp;Rock&#39;n lol band de Sadelr&ucirc;kers, volledige programma op&nbsp;drachten.muziekbijdeburen.nl, opening bij het oude huis aan de Oudeweg 208a, 12.30 u.</p>

LAST-MODIFIED:20260426T041716Z
LOCATION: Drachten algemeen | De Hemmen 1 Drachten
SEQUENCE:0
STATUS:CONFIRMED
SUMMARY:Huiskamerfestival: Muziek bij de buren 
TRANSP:OPAQUE
END:VEVENT
END:VCALENDAR
